BEGIN:VCALENDAR
VERSION:2.0
PRODID:-//SJCC - ECPv4.4.5//NONSGML v1.0//EN
CALSCALE:GREGORIAN
METHOD:PUBLISH
X-WR-CALNAME:SJCC
X-ORIGINAL-URL:http://sjcc.ie
X-WR-CALDESC:Events for SJCC
BEGIN:VEVENT
DTSTART;TZID=Europe/Dublin:20171115T160000
DTEND;TZID=Europe/Dublin:20171115T183000
DTSTAMP:20171106T082045
CREATED:20170606T095138Z
LAST-MODIFIED:20171024T213807Z
UID:1108-1510761600-1510770600@sjcc.ie
SUMMARY:2nd and 3rd Year parent-teacher meeting
DESCRIPTION:
URL:http://sjcc.ie/event/1st-2nd-year-parent-teacher-meeting/
END:VEVENT
END:VCALENDAR