BEGIN:VCALENDAR
VERSION:2.0
PRODID:-//SJCC - ECPv4.4.5//NONSGML v1.0//EN
CALSCALE:GREGORIAN
METHOD:PUBLISH
X-WR-CALNAME:SJCC
X-ORIGINAL-URL:http://sjcc.ie
X-WR-CALDESC:Events for SJCC
BEGIN:VEVENT
DTSTART;VALUE=DATE:20171030
DTEND;VALUE=DATE:20171103
DTSTAMP:20171106T081435
CREATED:20170606T095400Z
LAST-MODIFIED:20170606T095400Z
UID:1112-1509321600-1509753599@sjcc.ie
SUMMARY:Mid-Term break
DESCRIPTION:
URL:http://sjcc.ie/event/mid-term-break/
END:VEVENT
END:VCALENDAR